Workbook

Sheet Cover
B9: Quality Indicator Dashboard
B10: AHQS — Accelerate Healthcare Quality Solutions
B13: A comprehensive KPI tracking tool for laboratory quality indicators with monthly data entry, target comparison, YTD performance, trend charts, and a RAG status dashboard.
B15: Key Features
B16: • 8 key laboratory quality indicators with 12-month tracking
B17: • Auto-calculated compliance status (Met/Not Met)
B18: • YTD performance percentage
B19: • Trend line charts for each indicator
B20: • RAG (Red/Amber/Green) status dashboard
B21: • Target direction support (higher is better / lower is better)
B23: How to Use
B24: 1. Start with the Data Entry sheet — fill in yellow-shaded input cells only
... B34: Tool ID: AHQS-KPI-002 | Version: 2.0 | Created: October 2026 | AHQS Healthcare Quality Solutions

Sheet KPI Data
A1: # | B1: Month | C1: Indicator | D1: Target | E1: Actual | F1: Unit | G1: Direction | H1: Status | I1: Variance | J1: YTD Avg | K1: YTD % Met
A2: 1 | B2: Jan-26 | C2: Turnaround Time - Routine | D2: 4 | E2: 3.5 | F2: hours | G2: ≤ | H2: =IF(E2="","",IF(G2="≥",IF(E2>=D2,"Met","Not Met"),IF(E2<=D2,"Met","Not Met"))) | I2: =IF(E2="","",IF(G2="≥",E2-D2,D2-E2)) | J2: =IFERROR(AVERAGEIF($C$2:$C$13,C2,$E$2:$E$13),"") | K2: =IFERROR(COUNTIFS($C$2:$C$13,C2,$H$2:$H$13,"Met")/COUNTA($H$2:$H$13)*100,0)
A3: 2 | B3: Feb-26 | C3: Turnaround Time - Routine | D3: 4 | E3: 4.3 | F3: hours | G3: ≤ | H3: =IF(E3="","",IF(G3="≥",IF(E3>=D3,"Met","Not Met"),IF(E3<=D3,"Met","Not Met"))) | I3: =IF(E3="","",IF(G3="≥",E3-D3,D3-E3)) | J3: =IFERROR(AVERAGEIF($C$2:$C$13,C3,$E$2:$E$13),"") | K3: =IFERROR(COUNTIFS($C$2:$C$13,C3,$H$2:$H$13,"Met")/COUNTA($H$2:$H$13)*100,0)
A4: 3 | B4: Mar-26 | C4: Turnaround Time - Routine | D4: 4 | E4: 4.3 | F4: hours | G4: ≤ | H4: =IF(E4="","",IF(G4="≥",IF(E4>=D4,"Met","Not Met"),IF(E4<=D4,"Met","Not Met"))) | I4: =IF(E4="","",IF(G4="≥",E4-D4,D4-E4)) | J4: =IFERROR(AVERAGEIF($C$2:$C$13,C4,$E$2:$E$13),"") | K4: =IFERROR(COUNTIFS($C$2:$C$13,C4,$H$2:$H$13,"Met")/COUNTA($H$2:$H$13)*100,0)
A5: 4 | B5: Apr-26 | C5: Turnaround Time - Routine | D5: 4 | E5: 3.5 | F5: hours | G5: ≤ | H5: =IF(E5="","",IF(G5="≥",IF(E5>=D5,"Met","Not Met"),IF(E5<=D5,"Met","Not Met"))) | I5: =IF(E5="","",IF(G5="≥",E5-D5,D5-E5)) | J5: =IFERROR(AVERAGEIF($C$2:$C$13,C5,$E$2:$E$13),"") | K5: =IFERROR(COUNTIFS($C$2:$C$13,C5,$H$2:$H$13,"Met")/COUNTA($H$2:$H$13)*100,0)
A6: 5 | B6: May-26 | C6: Turnaround Time - Routine | D6: 4 | E6: 4.3 | F6: hours | G6: ≤ | H6: =IF(E6="","",IF(G6="≥",IF(E6>=D6,"Met","Not Met"),IF(E6<=D6,"Met","Not Met"))) | I6: =IF(E6="","",IF(G6="≥",E6-D6,D6-E6)) | J6: =IFERROR(AVERAGEIF($C$2:$C$13,C6,$E$2:$E$13),"") | K6: =IFERROR(COUNTIFS($C$2:$C$13,C6,$H$2:$H$13,"Met")/COUNTA($H$2:$H$13)*100,0)
A7: 6 | B7: Jun-26 | C7: Turnaround Time - Routine | D7: 4 | E7: 4.3 | F7: hours | G7: ≤ | H7: =IF(E7="","",IF(G7="≥",IF(E7>=D7,"Met","Not Met"),IF(E7<=D7,"Met","Not Met"))) | I7: =IF(E7="","",IF(G7="≥",E7-D7,D7-E7)) | J7: =IFERROR(AVERAGEIF($C$2:$C$13,C7,$E$2:$E$13),"") | K7: =IFERROR(COUNTIFS($C$2:$C$13,C7,$H$2:$H$13,"Met")/COUNTA($H$2:$H$13)*100,0)
A8: 7 | B8: Jul-26 | C8: Turnaround Time - Routine | D8: 4 | E8: 3.5 | F8: hours | G8: ≤ | H8: =IF(E8="","",IF(G8="≥",IF(E8>=D8,"Met","Not Met"),IF(E8<=D8,"Met","Not Met"))) | I8: =IF(E8="","",IF(G8="≥",E8-D8,D8-E8)) | J8: =IFERROR(AVERAGEIF($C$2:$C$13,C8,$E$2:$E$13),"") | K8: =IFERROR(COUNTIFS($C$2:$C$13,C8,$H$2:$H$13,"Met")/COUNTA($H$2:$H$13)*100,0)
A9: 8 | B9: Aug-26 | C9: Turnaround Time - Routine | D9: 4 | E9: 4.3 | F9: hours | G9: ≤ | H9: =IF(E9="","",IF(G9="≥",IF(E9>=D9,"Met","Not Met"),IF(E9<=D9,"Met","Not Met"))) | I9: =IF(E9="","",IF(G9="≥",E9-D9,D9-E9)) | J9: =IFERROR(AVERAGEIF($C$2:$C$13,C9,$E$2:$E$13),"") | K9: =IFERROR(COUNTIFS($C$2:$C$13,C9,$H$2:$H$13,"Met")/COUNTA($H$2:$H$13)*100,0)
A10: 9 | B10: Sep-26 | C10: Turnaround Time - Routine | D10: 4 | E10: 4.3 | F10: hours | G10: ≤ | H10: =IF(E10="","",IF(G10="≥",IF(E10>=D10,"Met","Not Met"),IF(E10<=D10,"Met","Not Met"))) | I10: =IF(E10="","",IF(G10="≥",E10-D10,D10-E10)) | J10: =IFERROR(AVERAGEIF($C$2:$C$13,C10,$E$2:$E$13),"") | K10: =IFERROR(COUNTIFS($C$2:$C$13,C10,$H$2:$H$13,"Met")/COUNTA($H$2:$H$13)*100,0)
A11: 10 | B11: Oct-26 | C11: Turnaround Time - Routine | D11: 4 | E11: 3.5 | F11: hours | G11: ≤ | H11: =IF(E11="","",IF(G11="≥",IF(E11>=D11,"Met","Not Met"),IF(E11<=D11,"Met","Not Met"))) | I11: =IF(E11="","",IF(G11="≥",E11-D11,D11-E11)) | J11: =IFERROR(AVERAGEIF($C$2:$C$13,C11,$E$2:$E$13),"") | K11: =IFERROR(COUNTIFS($C$2:$C$13,C11,$H$2:$H$13,"Met")/COUNTA($H$2:$H$13)*100,0)
A12: 11 | B12: Nov-26 | C12: Turnaround Time - Routine | D12: 4 | E12: 4.3 | F12: hours | G12: ≤ | H12: =IF(E12="","",IF(G12="≥",IF(E12>=D12,"Met","Not Met"),IF(E12<=D12,"Met","Not Met"))) | I12: =IF(E12="","",IF(G12="≥",E12-D12,D12-E12)) | J12: =IFERROR(AVERAGEIF($C$2:$C$13,C12,$E$2:$E$13),"") | K12: =IFERROR(COUNTIFS($C$2:$C$13,C12,$H$2:$H$13,"Met")/COUNTA($H$2:$H$13)*100,0)
A13: 12 | B13: Dec-26 | C13: Turnaround Time - Routine | D13: 4 | E13: 4.3 | F13: hours | G13: ≤ | H13: =IF(E13="","",IF(G13="≥",IF(E13>=D13,"Met","Not Met"),IF(E13<=D13,"Met","Not Met"))) | I13: =IF(E13="","",IF(G13="≥",E13-D13,D13-E13)) | J13: =IFERROR(AVERAGEIF($C$2:$C$13,C13,$E$2:$E$13),"") | K13: =IFERROR(COUNTIFS($C$2:$C$13,C13,$H$2:$H$13,"Met")/COUNTA($H$2:$H$13)*100,0)
A14: 13 | B14: Jan-26 | C14: Turnaround Time - STAT | D14: 2 | E14: 1.5 | F14: hours | G14: ≤ | H14: =IF(E14="","",IF(G14="≥",IF(E14>=D14,"Met","Not Met"),IF(E14<=D14,"Met","Not Met"))) | I14: =IF(E14="","",IF(G14="≥",E14-D14,D14-E14)) | J14: =IFERROR(AVERAGEIF($C$14:$C$25,C14,$E$14:$E$25),"") | K14: =IFERROR(COUNTIFS($C$14:$C$25,C14,$H$14:$H$25,"Met")/COUNTA($H$14:$H$25)*100,0)
A15: 14 | B15: Feb-26 | C15: Turnaround Time - STAT | D15: 2 | E15: 2.3 | F15: hours | G15: ≤ | H15: =IF(E15="","",IF(G15="≥",IF(E15>=D15,"Met","Not Met"),IF(E15<=D15,"Met","Not Met"))) | I15: =IF(E15="","",IF(G15="≥",E15-D15,D15-E15)) | J15: =IFERROR(AVERAGEIF($C$14:$C$25,C15,$E$14:$E$25),"") | K15: =IFERROR(COUNTIFS($C$14:$C$25,C15,$H$14:$H$25,"Met")/COUNTA($H$14:$H$25)*100,0)
A16: 15 | B16: Mar-26 | C16: Turnaround Time - STAT | D16: 2 | E16: 2.3 | F16: hours | G16: ≤ | H16: =IF(E16="","",IF(G16="≥",IF(E16>=D16,"Met","Not Met"),IF(E16<=D16,"Met","Not Met"))) | I16: =IF(E16="","",IF(G16="≥",E16-D16,D16-E16)) | J16: =IFERROR(AVERAGEIF($C$14:$C$25,C16,$E$14:$E$25),"") | K16: =IFERROR(COUNTIFS($C$14:$C$25,C16,$H$14:$H$25,"Met")/COUNTA($H$14:$H$25)*100,0)
A17: 16 | B17: Apr-26 | C17: Turnaround Time - STAT | D17: 2 | E17: 1.5 | F17: hours | G17: ≤ | H17: =IF(E17="","",IF(G17="≥",IF(E17>=D17,"Met","Not Met"),IF(E17<=D17,"Met","Not Met"))) | I17: =IF(E17="","",IF(G17="≥",E17-D17,D17-E17)) | J17: =IFERROR(AVERAGEIF($C$14:$C$25,C17,$E$14:$E$25),"") | K17: =IFERROR(COUNTIFS($C$14:$C$25,C17,$H$14:$H$25,"Met")/COUNTA($H$14:$H$25)*100,0)
A18: 17 | B18: May-26 | C18: Turnaround Time - STAT | D18: 2 | E18: 2.3 | F18: hours | G18: ≤ | H18: =IF(E18="","",IF(G18="≥",IF(E18>=D18,"Met","Not Met"),IF(E18<=D18,"Met","Not Met"))) | I18: =IF(E18="","",IF(G18="≥",E18-D18,D18-E18)) | J18: =IFERROR(AVERAGEIF($C$14:$C$25,C18,$E$14:$E$25),"") | K18: =IFERROR(COUNTIFS($C$14:$C$25,C18,$H$14:$H$25,"Met")/COUNTA($H$14:$H$25)*100,0)
A19: 18 | B19: Jun-26 | C19: Turnaround Time - STAT | D19: 2 | E19: 2.3 | F19: hours | G19: ≤ | H19: =IF(E19="","",IF(G19="≥",IF(E19>=D19,"Met","Not Met"),IF(E19<=D19,"Met","Not Met"))) | I19: =IF(E19="","",IF(G19="≥",E19-D19,D19-E19)) | J19: =IFERROR(AVERAGEIF($C$14:$C$25,C19,$E$14:$E$25),"") | K19: =IFERROR(COUNTIFS($C$14:$C$25,C19,$H$14:$H$25,"Met")/COUNTA($H$14:$H$25)*100,0)
A20: 19 | B20: Jul-26 | C20: Turnaround Time - STAT | D20: 2 | E20: 1.5 | F20: hours | G20: ≤ | H20: =IF(E20="","",IF(G20="≥",IF(E20>=D20,"Met","Not Met"),IF(E20<=D20,"Met","Not Met"))) | I20: =IF(E20="","",IF(G20="≥",E20-D20,D20-E20)) | J20: =IFERROR(AVERAGEIF($C$14:$C$25,C20,$E$14:$E$25),"") | K20: =IFERROR(COUNTIFS($C$14:$C$25,C20,$H$14:$H$25,"Met")/COUNTA($H$14:$H$25)*100,0)
A21: 20 | B21: Aug-26 | C21: Turnaround Time - STAT | D21: 2 | E21: 2.3 | F21: hours | G21: ≤ | H21: =IF(E21="","",IF(G21="≥",IF(E21>=D21,"Met","Not Met"),IF(E21<=D21,"Met","Not Met"))) | I21: =IF(E21="","",IF(G21="≥",E21-D21,D21-E21)) | J21: =IFERROR(AVERAGEIF($C$14:$C$25,C21,$E$14:$E$25),"") | K21: =IFERROR(COUNTIFS($C$14:$C$25,C21,$H$14:$H$25,"Met")/COUNTA($H$14:$H$25)*100,0)
A22: 21 | B22: Sep-26 | C22: Turnaround Time - STAT | D22: 2 | E22: 2.3 | F22: hours | G22: ≤ | H22: =IF(E22="","",IF(G22="≥",IF(E22>=D22,"Met","Not Met"),IF(E22<=D22,"Met","Not Met"))) | I22: =IF(E22="","",IF(G22="≥",E22-D22,D22-E22)) | J22: =IFERROR(AVERAGEIF($C$14:$C$25,C22,$E$14:$E$25),"") | K22: =IFERROR(COUNTIFS($C$14:$C$25,C22,$H$14:$H$25,"Met")/COUNTA($H$14:$H$25)*100,0)
A23: 22 | B23: Oct-26 | C23: Turnaround Time - STAT | D23: 2 | E23: 1.5 | F23: hours | G23: ≤ | H23: =IF(E23="","",IF(G23="≥",IF(E23>=D23,"Met","Not Met"),IF(E23<=D23,"Met","Not Met"))) | I23: =IF(E23="","",IF(G23="≥",E23-D23,D23-E23)) | J23: =IFERROR(AVERAGEIF($C$14:$C$25,C23,$E$14:$E$25),"") | K23: =IFERROR(COUNTIFS($C$14:$C$25,C23,$H$14:$H$25,"Met")/COUNTA($H$14:$H$25)*100,0)
A24: 23 | B24: Nov-26 | C24: Turnaround Time - STAT | D24: 2 | E24: 2.3 | F24: hours | G24: ≤ | H24: =IF(E24="","",IF(G24="≥",IF(E24>=D24,"Met","Not Met"),IF(E24<=D24,"Met","Not Met"))) | I24: =IF(E24="","",IF(G24="≥",E24-D24,D24-E24)) | J24: =IFERROR(AVERAGEIF($C$14:$C$25,C24,$E$14:$E$25),"") | K24: =IFERROR(COUNTIFS($C$14:$C$25,C24,$H$14:$H$25,"Met")/COUNTA($H$14:$H$25)*100,0)
A25: 24 | B25: Dec-26 | C25: Turnaround Time - STAT | D25: 2 | E25: 2.3 | F25: hours | G25: ≤ | H25: =IF(E25="","",IF(G25="≥",IF(E25>=D25,"Met","Not Met"),IF(E25<=D25,"Met","Not Met"))) | I25: =IF(E25="","",IF(G25="≥",E25-D25,D25-E25)) | J25: =IFERROR(AVERAGEIF($C$14:$C$25,C25,$E$14:$E$25),"") | K25: =IFERROR(COUNTIFS($C$14:$C$25,C25,$H$14:$H$25,"Met")/COUNTA($H$14:$H$25)*100,0)
A26: 25 | B26: Jan-26 | C26: Sample Rejection Rate | D26: 2 | E26: 1.5 | F26: % | G26: ≤ | H26: =IF(E26="","",IF(G26="≥",IF(E26>=D26,"Met","Not Met"),IF(E26<=D26,"Met","Not Met"))) | I26: =IF(E26="","",IF(G26="≥",E26-D26,D26-E26)) | J26: =IFERROR(AVERAGEIF($C$26:$C$37,C26,$E$26:$E$37),"") | K26: =IFERROR(COUNTIFS($C$26:$C$37,C26,$H$26:$H$37,"Met")/COUNTA($H$26:$H$37)*100,0)
A27: 26 | B27: Feb-26 | C27: Sample Rejection Rate | D27: 2 | E27: 2.3 | F27: % | G27: ≤ | H27: =IF(E27="","",IF(G27="≥",IF(E27>=D27,"Met","Not Met"),IF(E27<=D27,"Met","Not Met"))) | I27: =IF(E27="","",IF(G27="≥",E27-D27,D27-E27)) | J27: =IFERROR(AVERAGEIF($C$26:$C$37,C27,$E$26:$E$37),"") | K27: =IFERROR(COUNTIFS($C$26:$C$37,C27,$H$26:$H$37,"Met")/COUNTA($H$26:$H$37)*100,0)
A28: 27 | B28: Mar-26 | C28: Sample Rejection Rate | D28: 2 | E28: 2.3 | F28: % | G28: ≤ | H28: =IF(E28="","",IF(G28="≥",IF(E28>=D28,"Met","Not Met"),IF(E28<=D28,"Met","Not Met"))) | I28: =IF(E28="","",IF(G28="≥",E28-D28,D28-E28)) | J28: =IFERROR(AVERAGEIF($C$26:$C$37,C28,$E$26:$E$37),"") | K28: =IFERROR(COUNTIFS($C$26:$C$37,C28,$H$26:$H$37,"Met")/COUNTA($H$26:$H$37)*100,0)
A29: 28 | B29: Apr-26 | C29: Sample Rejection Rate | D29: 2 | E29: 1.5 | F29: % | G29: ≤ | H29: =IF(E29="","",IF(G29="≥",IF(E29>=D29,"Met","Not Met"),IF(E29<=D29,"Met","Not Met"))) | I29: =IF(E29="","",IF(G29="≥",E29-D29,D29-E29)) | J29: =IFERROR(AVERAGEIF($C$26:$C$37,C29,$E$26:$E$37),"") | K29: =IFERROR(COUNTIFS($C$26:$C$37,C29,$H$26:$H$37,"Met")/COUNTA($H$26:$H$37)*100,0)
A30: 29 | B30: May-26 | C30: Sample Rejection Rate | D30: 2 | E30: 2.3 | F30: % | G30: ≤ | H30: =IF(E30="","",IF(G30="≥",IF(E30>=D30,"Met","Not Met"),IF(E30<=D30,"Met","Not Met"))) | I30: =IF(E30="","",IF(G30="≥",E30-D30,D30-E30)) | J30: =IFERROR(AVERAGEIF($C$26:$C$37,C30,$E$26:$E$37),"") | K30: =IFERROR(COUNTIFS($C$26:$C$37,C30,$H$26:$H$37,"Met")/COUNTA($H$26:$H$37)*100,0)
A31: 30 | B31: Jun-26 | C31: Sample Rejection Rate | D31: 2 | E31: 2.3 | F31: % | G31: ≤ | H31: =IF(E31="","",IF(G31="≥",IF(E31>=D31,"Met","Not Met"),IF(E31<=D31,"Met","Not Met"))) | I31: =IF(E31="","",IF(G31="≥",E31-D31,D31-E31)) | J31: =IFERROR(AVERAGEIF($C$26:$C$37,C31,$E$26:$E$37),"") | K31: =IFERROR(COUNTIFS($C$26:$C$37,C31,$H$26:$H$37,"Met")/COUNTA($H$26:$H$37)*100,0)
A32: 31 | B32: Jul-26 | C32: Sample Rejection Rate | D32: 2 | E32: 1.5 | F32: % | G32: ≤ | H32: =IF(E32="","",IF(G32="≥",IF(E32>=D32,"Met","Not Met"),IF(E32<=D32,"Met","Not Met"))) | I32: =IF(E32="","",IF(G32="≥",E32-D32,D32-E32)) | J32: =IFERROR(AVERAGEIF($C$26:$C$37,C32,$E$26:$E$37),"") | K32: =IFERROR(COUNTIFS($C$26:$C$37,C32,$H$26:$H$37,"Met")/COUNTA($H$26:$H$37)*100,0)
A33: 32 | B33: Aug-26 | C33: Sample Rejection Rate | D33: 2 | E33: 2.3 | F33: % | G33: ≤ | H33: =IF(E33="","",IF(G33="≥",IF(E33>=D33,"Met","Not Met"),IF(E33<=D33,"Met","Not Met"))) | I33: =IF(E33="","",IF(G33="≥",E33-D33,D33-E33)) | J33: =IFERROR(AVERAGEIF($C$26:$C$37,C33,$E$26:$E$37),"") | K33: =IFERROR(COUNTIFS($C$26:$C$37,C33,$H$26:$H$37,"Met")/COUNTA($H$26:$H$37)*100,0)
A34: 33 | B34: Sep-26 | C34: Sample Rejection Rate | D34: 2 | E34: 2.3 | F34: % | G34: ≤ | H34: =IF(E34="","",IF(G34="≥",IF(E34>=D34,"Met","Not Met"),IF(E34<=D34,"Met","Not Met"))) | I34: =IF(E34="","",IF(G34="≥",E34-D34,D34-E34)) | J34: =IFERROR(AVERAGEIF($C$26:$C$37,C34,$E$26:$E$37),"") | K34: =IFERROR(COUNTIFS($C$26:$C$37,C34,$H$26:$H$37,"Met")/COUNTA($H$26:$H$37)*100,0)
A35: 34 | B35: Oct-26 | C35: Sample Rejection Rate | D35: 2 | E35: 1.5 | F35: % | G35: ≤ | H35: =IF(E35="","",IF(G35="≥",IF(E35>=D35,"Met","Not Met"),IF(E35<=D35,"Met","Not Met"))) | I35: =IF(E35="","",IF(G35="≥",E35-D35,D35-E35)) | J35: =IFERROR(AVERAGEIF($C$26:$C$37,C35,$E$26:$E$37),"") | K35: =IFERROR(COUNTIFS($C$26:$C$37,C35,$H$26:$H$37,"Met")/COUNTA($H$26:$H$37)*100,0)
A36: 35 | B36: Nov-26 | C36: Sample Rejection Rate | D36: 2 | E36: 2.3 | F36: % | G36: ≤ | H36: =IF(E36="","",IF(G36="≥",IF(E36>=D36,"Met","Not Met"),IF(E36<=D36,"Met","Not Met"))) | I36: =IF(E36="","",IF(G36="≥",E36-D36,D36-E36)) | J36: =IFERROR(AVERAGEIF($C$26:$C$37,C36,$E$26:$E$37),"") | K36: =IFERROR(COUNTIFS($C$26:$C$37,C36,$H$26:$H$37,"Met")/COUNTA($H$26:$H$37)*100,0)
A37: 36 | B37: Dec-26 | C37: Sample Rejection Rate | D37: 2 | E37: 2.3 | F37: % | G37: ≤ | H37: =IF(E37="","",IF(G37="≥",IF(E37>=D37,"Met","Not Met"),IF(E37<=D37,"Met","Not Met"))) | I37: =IF(E37="","",IF(G37="≥",E37-D37,D37-E37)) | J37: =IFERROR(AVERAGEIF($C$26:$C$37,C37,$E$26:$E$37),"") | K37: =IFERROR(COUNTIFS($C$26:$C$37,C37,$H$26:$H$37,"Met")/COUNTA($H$26:$H$37)*100,0)
A38: 37 | B38: Jan-26 | C38: Critical Value Reporting Time | D38: 30 | E38: 29.5 | F38: min | G38: ≤ | H38: =IF(E38="","",IF(G38="≥",IF(E38>=D38,"Met","Not Met"),IF(E38<=D38,"Met","Not Met"))) | I38: =IF(E38="","",IF(G38="≥",E38-D38,D38-E38)) | J38: =IFERROR(AVERAGEIF($C$38:$C$49,C38,$E$38:$E$49),"") | K38: =IFERROR(COUNTIFS($C$38:$C$49,C38,$H$38:$H$49,"Met")/COUNTA($H$38:$H$49)*100,0)
A39: 38 | B39: Feb-26 | C39: Critical Value Reporting Time | D39: 30 | E39: 30.3 | F39: min | G39: ≤ | H39: =IF(E39="","",IF(G39="≥",IF(E39>=D39,"Met","Not Met"),IF(E39<=D39,"Met","Not Met"))) | I39: =IF(E39="","",IF(G39="≥",E39-D39,D39-E39)) | J39: =IFERROR(AVERAGEIF($C$38:$C$49,C39,$E$38:$E$49),"") | K39: =IFERROR(COUNTIFS($C$38:$C$49,C39,$H$38:$H$49,"Met")/COUNTA($H$38:$H$49)*100,0)
A40: 39 | B40: Mar-26 | C40: Critical Value Reporting Time | D40: 30 | E40: 30.3 | F40: min | G40: ≤ | H40: =IF(E40="","",IF(G40="≥",IF(E40>=D40,"Met","Not Met"),IF(E40<=D40,"Met","Not Met"))) | I40: =IF(E40="","",IF(G40="≥",E40-D40,D40-E40)) | J40: =IFERROR(AVERAGEIF($C$38:$C$49,C40,$E$38:$E$49),"") | K40: =IFERROR(COUNTIFS($C$38:$C$49,C40,$H$38:$H$49,"Met")/COUNTA($H$38:$H$49)*100,0)
A41: 40 | B41: Apr-26 | C41: Critical Value Reporting Time | D41: 30 | E41: 29.5 | F41: min | G41: ≤ | H41: =IF(E41="","",IF(G41="≥",IF(E41>=D41,"Met","Not Met"),IF(E41<=D41,"Met","Not Met"))) | I41: =IF(E41="","",IF(G41="≥",E41-D41,D41-E41)) | J41: =IFERROR(AVERAGEIF($C$38:$C$49,C41,$E$38:$E$49),"") | K41: =IFERROR(COUNTIFS($C$38:$C$49,C41,$H$38:$H$49,"Met")/COUNTA($H$38:$H$49)*100,0)
A42: 41 | B42: May-26 | C42: Critical Value Reporting Time | D42: 30 | E42: 30.3 | F42: min | G42: ≤ | H42: =IF(E42="","",IF(G42="≥",IF(E42>=D42,"Met","Not Met"),IF(E42<=D42,"Met","Not Met"))) | I42: =IF(E42="","",IF(G42="≥",E42-D42,D42-E42)) | J42: =IFERROR(AVERAGEIF($C$38:$C$49,C42,$E$38:$E$49),"") | K42: =IFERROR(COUNTIFS($C$38:$C$49,C42,$H$38:$H$49,"Met")/COUNTA($H$38:$H$49)*100,0)
A43: 42 | B43: Jun-26 | C43: Critical Value Reporting Time | D43: 30 | E43: 30.3 | F43: min | G43: ≤ | H43: =IF(E43="","",IF(G43="≥",IF(E43>=D43,"Met","Not Met"),IF(E43<=D43,"Met","Not Met"))) | I43: =IF(E43="","",IF(G43="≥",E43-D43,D43-E43)) | J43: =IFERROR(AVERAGEIF($C$38:$C$49,C43,$E$38:$E$49),"") | K43: =IFERROR(COUNTIFS($C$38:$C$49,C43,$H$38:$H$49,"Met")/COUNTA($H$38:$H$49)*100,0)
A44: 43 | B44: Jul-26 | C44: Critical Value Reporting Time | D44: 30 | E44: 29.5 | F44: min | G44: ≤ | H44: =IF(E44="","",IF(G44="≥",IF(E44>=D44,"Met","Not Met"),IF(E44<=D44,"Met","Not Met"))) | I44: =IF(E44="","",IF(G44="≥",E44-D44,D44-E44)) | J44: =IFERROR(AVERAGEIF($C$38:$C$49,C44,$E$38:$E$49),"") | K44: =IFERROR(COUNTIFS($C$38:$C$49,C44,$H$38:$H$49,"Met")/COUNTA($H$38:$H$49)*100,0)
A45: 44 | B45: Aug-26 | C45: Critical Value Reporting Time | D45: 30 | E45: 30.3 | F45: min | G45: ≤ | H45: =IF(E45="","",IF(G45="≥",IF(E45>=D45,"Met","Not Met"),IF(E45<=D45,"Met","Not Met"))) | I45: =IF(E45="","",IF(G45="≥",E45-D45,D45-E45)) | J45: =IFERROR(AVERAGEIF($C$38:$C$49,C45,$E$38:$E$49),"") | K45: =IFERROR(COUNTIFS($C$38:$C$49,C45,$H$38:$H$49,"Met")/COUNTA($H$38:$H$49)*100,0)
A46: 45 | B46: Sep-26 | C46: Critical Value Reporting Time | D46: 30 | E46: 30.3 | F46: min | G46: ≤ | H46: =IF(E46="","",IF(G46="≥",IF(E46>=D46,"Met","Not Met"),IF(E46<=D46,"Met","Not Met"))) | I46: =IF(E46="","",IF(G46="≥",E46-D46,D46-E46)) | J46: =IFERROR(AVERAGEIF($C$38:$C$49,C46,$E$38:$E$49),"") | K46: =IFERROR(COUNTIFS($C$38:$C$49,C46,$H$38:$H$49,"Met")/COUNTA($H$38:$H$49)*100,0)
A47: 46 | B47: Oct-26 | C47: Critical Value Reporting Time | D47: 30 | E47: 29.5 | F47: min | G47: ≤ | H47: =IF(E47="","",IF(G47="≥",IF(E47>=D47,"Met","Not Met"),IF(E47<=D47,"Met","Not Met"))) | I47: =IF(E47="","",IF(G47="≥",E47-D47,D47-E47)) | J47: =IFERROR(AVERAGEIF($C$38:$C$49,C47,$E$38:$E$49),"") | K47: =IFERROR(COUNTIFS($C$38:$C$49,C47,$H$38:$H$49,"Met")/COUNTA($H$38:$H$49)*100,0)
A48: 47 | B48: Nov-26 | C48: Critical Value Reporting Time | D48: 30 | E48: 30.3 | F48: min | G48: ≤ | H48: =IF(E48="","",IF(G48="≥",IF(E48>=D48,"Met","Not Met"),IF(E48<=D48,"Met","Not Met"))) | I48: =IF(E48="","",IF(G48="≥",E48-D48,D48-E48)) | J48: =IFERROR(AVERAGEIF($C$38:$C$49,C48,$E$38:$E$49),"") | K48: =IFERROR(COUNTIFS($C$38:$C$49,C48,$H$38:$H$49,"Met")/COUNTA($H$38:$H$49)*100,0)
A49: 48 | B49: Dec-26 | C49: Critical Value Reporting Time | D49: 30 | E49: 30.3 | F49: min | G49: ≤ | H49: =IF(E49="","",IF(G49="≥",IF(E49>=D49,"Met","Not Met"),IF(E49<=D49,"Met","Not Met"))) | I49: =IF(E49="","",IF(G49="≥",E49-D49,D49-E49)) | J49: =IFERROR(AVERAGEIF($C$38:$C$49,C49,$E$38:$E$49),"") | K49: =IFERROR(COUNTIFS($C$38:$C$49,C49,$H$38:$H$49,"Met")/COUNTA($H$38:$H$49)*100,0)
A50: 49 | B50: Jan-26 | C50: CAPA Closure Rate (30 days) | D50: 90 | E50: 90.5 | F50: % | G50: ≥ | H50: =IF(E50="","",IF(G50="≥",IF(E50>=D50,"Met","Not Met"),IF(E50<=D50,"Met","Not Met"))) | I50: =IF(E50="","",IF(G50="≥",E50-D50,D50-E50)) | J50: =IFERROR(AVERAGEIF($C$50:$C$61,C50,$E$50:$E$61),"") | K50: =IFERROR(COUNTIFS($C$50:$C$61,C50,$H$50:$H$61,"Met")/COUNTA($H$50:$H$61)*100,0)
A51: 50 | B51: Feb-26 | C51: CAPA Closure Rate (30 days) | D51: 90 | E51: 91.5 | F51: % | G51: ≥ | H51: =IF(E51="","",IF(G51="≥",IF(E51>=D51,"Met","Not Met"),IF(E51<=D51,"Met","Not Met"))) | I51: =IF(E51="","",IF(G51="≥",E51-D51,D51-E51)) | J51: =IFERROR(AVERAGEIF($C$50:$C$61,C51,$E$50:$E$61),"") | K51: =IFERROR(COUNTIFS($C$50:$C$61,C51,$H$50:$H$61,"Met")/COUNTA($H$50:$H$61)*100,0)
A52: 51 | B52: Mar-26 | C52: CAPA Closure Rate (30 days) | D52: 90 | E52: 91.5 | F52: % | G52: ≥ | H52: =IF(E52="","",IF(G52="≥",IF(E52>=D52,"Met","Not Met"),IF(E52<=D52,"Met","Not Met"))) | I52: =IF(E52="","",IF(G52="≥",E52-D52,D52-E52)) | J52: =IFERROR(AVERAGEIF($C$50:$C$61,C52,$E$50:$E$61),"") | K52: =IFERROR(COUNTIFS($C$50:$C$61,C52,$H$50:$H$61,"Met")/COUNTA($H$50:$H$61)*100,0)
A53: 52 | B53: Apr-26 | C53: CAPA Closure Rate (30 days) | D53: 90 | E53: 90.5 | F53: % | G53: ≥ | H53: =IF(E53="","",IF(G53="≥",IF(E53>=D53,"Met","Not Met"),IF(E53<=D53,"Met","Not Met"))) | I53: =IF(E53="","",IF(G53="≥",E53-D53,D53-E53)) | J53: =IFERROR(AVERAGEIF($C$50:$C$61,C53,$E$50:$E$61),"") | K53: =IFERROR(COUNTIFS($C$50:$C$61,C53,$H$50:$H$61,"Met")/COUNTA($H$50:$H$61)*100,0)
A54: 53 | B54: May-26 | C54: CAPA Closure Rate (30 days) | D54: 90 | E54: 91.5 | F54: % | G54: ≥ | H54: =IF(E54="","",IF(G54="≥",IF(E54>=D54,"Met","Not Met"),IF(E54<=D54,"Met","Not Met"))) | I54: =IF(E54="","",IF(G54="≥",E54-D54,D54-E54)) | J54: =IFERROR(AVERAGEIF($C$50:$C$61,C54,$E$50:$E$61),"") | K54: =IFERROR(COUNTIFS($C$50:$C$61,C54,$H$50:$H$61,"Met")/COUNTA($H$50:$H$61)*100,0)
A55: 54 | B55: Jun-26 | C55: CAPA Closure Rate (30 days) | D55: 90 | E55: 91.5 | F55: % | G55: ≥ | H55: =IF(E55="","",IF(G55="≥",IF(E55>=D55,"Met","Not Met"),IF(E55<=D55,"Met","Not Met"))) | I55: =IF(E55="","",IF(G55="≥",E55-D55,D55-E55)) | J55: =IFERROR(AVERAGEIF($C$50:$C$61,C55,$E$50:$E$61),"") | K55: =IFERROR(COUNTIFS($C$50:$C$61,C55,$H$50:$H$61,"Met")/COUNTA($H$50:$H$61)*100,0)
A56: 55 | B56: Jul-26 | C56: CAPA Closure Rate (30 days) | D56: 90 | E56: 90.5 | F56: % | G56: ≥ | H56: =IF(E56="","",IF(G56="≥",IF(E56>=D56,"Met","Not Met"),IF(E56<=D56,"Met","Not Met"))) | I56: =IF(E56="","",IF(G56="≥",E56-D56,D56-E56)) | J56: =IFERROR(AVERAGEIF($C$50:$C$61,C56,$E$50:$E$61),"") | K56: =IFERROR(COUNTIFS($C$50:$C$61,C56,$H$50:$H$61,"Met")/COUNTA($H$50:$H$61)*100,0)
A57: 56 | B57: Aug-26 | C57: CAPA Closure Rate (30 days) | D57: 90 | E57: 91.5 | F57: % | G57: ≥ | H57: =IF(E57="","",IF(G57="≥",IF(E57>=D57,"Met","Not Met"),IF(E57<=D57,"Met","Not Met"))) | I57: =IF(E57="","",IF(G57="≥",E57-D57,D57-E57)) | J57: =IFERROR(AVERAGEIF($C$50:$C$61,C57,$E$50:$E$61),"") | K57: =IFERROR(COUNTIFS($C$50:$C$61,C57,$H$50:$H$61,"Met")/COUNTA($H$50:$H$61)*100,0)
A58: 57 | B58: Sep-26 | C58: CAPA Closure Rate (30 days) | D58: 90 | E58: 91.5 | F58: % | G58: ≥ | H58: =IF(E58="","",IF(G58="≥",IF(E58>=D58,"Met","Not Met"),IF(E58<=D58,"Met","Not Met"))) | I58: =IF(E58="","",IF(G58="≥",E58-D58,D58-E58)) | J58: =IFERROR(AVERAGEIF($C$50:$C$61,C58,$E$50:$E$61),"") | K58: =IFERROR(COUNTIFS($C$50:$C$61,C58,$H$50:$H$61,"Met")/COUNTA($H$50:$H$61)*100,0)
A59: 58 | B59: Oct-26 | C59: CAPA Closure Rate (30 days) | D59: 90 | E59: 90.5 | F59: % | G59: ≥ | H59: =IF(E59="","",IF(G59="≥",IF(E59>=D59,"Met","Not Met"),IF(E59<=D59,"Met","Not Met"))) | I59: =IF(E59="","",IF(G59="≥",E59-D59,D59-E59)) | J59: =IFERROR(AVERAGEIF($C$50:$C$61,C59,$E$50:$E$61),"") | K59: =IFERROR(COUNTIFS($C$50:$C$61,C59,$H$50:$H$61,"Met")/COUNTA($H$50:$H$61)*100,0)
A60: 59 | B60: Nov-26 | C60: CAPA Closure Rate (30 days) | D60: 90 | E60: 91.5 | F60: % | G60: ≥ | H60: =IF(E60="","",IF(G60="≥",IF(E60>=D60,"Met","Not Met"),IF(E60<=D60,"Met","Not Met"))) | I60: =IF(E60="","",IF(G60="≥",E60-D60,D60-E60)) | J60: =IFERROR(AVERAGEIF($C$50:$C$61,C60,$E$50:$E$61),"") | K60: =IFERROR(COUNTIFS($C$50:$C$61,C60,$H$50:$H$61,"Met")/COUNTA($H$50:$H$61)*100,0)
A61: 60 | B61: Dec-26 | C61: CAPA Closure Rate (30 days) | D61: 90 | E61: 91.5 | F61: % | G61: ≥ | H61: =IF(E61="","",IF(G61="≥",IF(E61>=D61,"Met","Not Met"),IF(E61<=D61,"Met","Not Met"))) | I61: =IF(E61="","",IF(G61="≥",E61-D61,D61-E61)) | J61: =IFERROR(AVERAGEIF($C$50:$C$61,C61,$E$50:$E$61),"") | K61: =IFERROR(COUNTIFS($C$50:$C$61,C61,$H$50:$H$61,"Met")/COUNTA($H$50:$H$61)*100,0)
A62: 61 | B62: Jan-26 | C62: QC Pass Rate | D62: 95 | E62: 95.5 | F62: % | G62: ≥ | H62: =IF(E62="","",IF(G62="≥",IF(E62>=D62,"Met","Not Met"),IF(E62<=D62,"Met","Not Met"))) | I62: =IF(E62="","",IF(G62="≥",E62-D62,D62-E62)) | J62: =IFERROR(AVERAGEIF($C$62:$C$73,C62,$E$62:$E$73),"") | K62: =IFERROR(COUNTIFS($C$62:$C$73,C62,$H$62:$H$73,"Met")/COUNTA($H$62:$H$73)*100,0)
A63: 62 | B63: Feb-26 | C63: QC Pass Rate | D63: 95 | E63: 96.5 | F63: % | G63: ≥ | H63: =IF(E63="","",IF(G63="≥",IF(E63>=D63,"Met","Not Met"),IF(E63<=D63,"Met","Not Met"))) | I63: =IF(E63="","",IF(G63="≥",E63-D63,D63-E63)) | J63: =IFERROR(AVERAGEIF($C$62:$C$73,C63,$E$62:$E$73),"") | K63: =IFERROR(COUNTIFS($C$62:$C$73,C63,$H$62:$H$73,"Met")/COUNTA($H$62:$H$73)*100,0)
A64: 63 | B64: Mar-26 | C64: QC Pass Rate | D64: 95 | E64: 96.5 | F64: % | G64: ≥ | H64: =IF(E64="","",IF(G64="≥",IF(E64>=D64,"Met","Not Met"),IF(E64<=D64,"Met","Not Met"))) | I64: =IF(E64="","",IF(G64="≥",E64-D64,D64-E64)) | J64: =IFERROR(AVERAGEIF($C$62:$C$73,C64,$E$62:$E$73),"") | K64: =IFERROR(COUNTIFS($C$62:$C$73,C64,$H$62:$H$73,"Met")/COUNTA($H$62:$H$73)*100,0)
A65: 64 | B65: Apr-26 | C65: QC Pass Rate | D65: 95 | E65: 95.5 | F65: % | G65: ≥ | H65: =IF(E65="","",IF(G65="≥",IF(E65>=D65,"Met","Not Met"),IF(E65<=D65,"Met","Not Met"))) | I65: =IF(E65="","",IF(G65="≥",E65-D65,D65-E65)) | J65: =IFERROR(AVERAGEIF($C$62:$C$73,C65,$E$62:$E$73),"") | K65: =IFERROR(COUNTIFS($C$62:$C$73,C65,$H$62:$H$73,"Met")/COUNTA($H$62:$H$73)*100,0)
A66: 65 | B66: May-26 | C66: QC Pass Rate | D66: 95 | E66: 96.5 | F66: % | G66: ≥ | H66: =IF(E66="","",IF(G66="≥",IF(E66>=D66,"Met","Not Met"),IF(E66<=D66,"Met","Not Met"))) | I66: =IF(E66="","",IF(G66="≥",E66-D66,D66-E66)) | J66: =IFERROR(AVERAGEIF($C$62:$C$73,C66,$E$62:$E$73),"") | K66: =IFERROR(COUNTIFS($C$62:$C$73,C66,$H$62:$H$73,"Met")/COUNTA($H$62:$H$73)*100,0)
A67: 66 | B67: Jun-26 | C67: QC Pass Rate | D67: 95 | E67: 96.5 | F67: % | G67: ≥ | H67: =IF(E67="","",IF(G67="≥",IF(E67>=D67,"Met","Not Met"),IF(E67<=D67,"Met","Not Met"))) | I67: =IF(E67="","",IF(G67="≥",E67-D67,D67-E67)) | J67: =IFERROR(AVERAGEIF($C$62:$C$73,C67,$E$62:$E$73),"") | K67: =IFERROR(COUNTIFS($C$62:$C$73,C67,$H$62:$H$73,"Met")/COUNTA($H$62:$H$73)*100,0)
A68: 67 | B68: Jul-26 | C68: QC Pass Rate | D68: 95 | E68: 95.5 | F68: % | G68: ≥ | H68: =IF(E68="","",IF(G68="≥",IF(E68>=D68,"Met","Not Met"),IF(E68<=D68,"Met","Not Met"))) | I68: =IF(E68="","",IF(G68="≥",E68-D68,D68-E68)) | J68: =IFERROR(AVERAGEIF($C$62:$C$73,C68,$E$62:$E$73),"") | K68: =IFERROR(COUNTIFS($C$62:$C$73,C68,$H$62:$H$73,"Met")/COUNTA($H$62:$H$73)*100,0)
A69: 68 | B69: Aug-26 | C69: QC Pass Rate | D69: 95 | E69: 96.5 | F69: % | G69: ≥ | H69: =IF(E69="","",IF(G69="≥",IF(E69>=D69,"Met","Not Met"),IF(E69<=D69,"Met","Not Met"))) | I69: =IF(E69="","",IF(G69="≥",E69-D69,D69-E69)) | J69: =IFERROR(AVERAGEIF($C$62:$C$73,C69,$E$62:$E$73),"") | K69: =IFERROR(COUNTIFS($C$62:$C$73,C69,$H$62:$H$73,"Met")/COUNTA($H$62:$H$73)*100,0)
A70: 69 | B70: Sep-26 | C70: QC Pass Rate | D70: 95 | E70: 96.5 | F70: % | G70: ≥ | H70: =IF(E70="","",IF(G70="≥",IF(E70>=D70,"Met","Not Met"),IF(E70<=D70,"Met","Not Met"))) | I70: =IF(E70="","",IF(G70="≥",E70-D70,D70-E70)) | J70: =IFERROR(AVERAGEIF($C$62:$C$73,C70,$E$62:$E$73),"") | K70: =IFERROR(COUNTIFS($C$62:$C$73,C70,$H$62:$H$73,"Met")/COUNTA($H$62:$H$73)*100,0)
A71: 70 | B71: Oct-26 | C71: QC Pass Rate | D71: 95 | E71: 95.5 | F71: % | G71: ≥ | H71: =IF(E71="","",IF(G71="≥",IF(E71>=D71,"Met","Not Met"),IF(E71<=D71,"Met","Not Met"))) | I71: =IF(E71="","",IF(G71="≥",E71-D71,D71-E71)) | J71: =IFERROR(AVERAGEIF($C$62:$C$73,C71,$E$62:$E$73),"") | K71: =IFERROR(COUNTIFS($C$62:$C$73,C71,$H$62:$H$73,"Met")/COUNTA($H$62:$H$73)*100,0)
A72: 71 | B72: Nov-26 | C72: QC Pass Rate | D72: 95 | E72: 96.5 | F72: % | G72: ≥ | H72: =IF(E72="","",IF(G72="≥",IF(E72>=D72,"Met","Not Met"),IF(E72<=D72,"Met","Not Met"))) | I72: =IF(E72="","",IF(G72="≥",E72-D72,D72-E72)) | J72: =IFERROR(AVERAGEIF($C$62:$C$73,C72,$E$62:$E$73),"") | K72: =IFERROR(COUNTIFS($C$62:$C$73,C72,$H$62:$H$73,"Met")/COUNTA($H$62:$H$73)*100,0)
A73: 72 | B73: Dec-26 | C73: QC Pass Rate | D73: 95 | E73: 96.5 | F73: % | G73: ≥ | H73: =IF(E73="","",IF(G73="≥",IF(E73>=D73,"Met","Not Met"),IF(E73<=D73,"Met","Not Met"))) | I73: =IF(E73="","",IF(G73="≥",E73-D73,D73-E73)) | J73: =IFERROR(AVERAGEIF($C$62:$C$73,C73,$E$62:$E$73),"") | K73: =IFERROR(COUNTIFS($C$62:$C$73,C73,$H$62:$H$73,"Met")/COUNTA($H$62:$H$73)*100,0)
A74: 73 | B74: Jan-26 | C74: Proficiency Testing Score | D74: 80 | E74: 80.5 | F74: % | G74: ≥ | H74: =IF(E74="","",IF(G74="≥",IF(E74>=D74,"Met","Not Met"),IF(E74<=D74,"Met","Not Met"))) | I74: =IF(E74="","",IF(G74="≥",E74-D74,D74-E74)) | J74: =IFERROR(AVERAGEIF($C$74:$C$85,C74,$E$74:$E$85),"") | K74: =IFERROR(COUNTIFS($C$74:$C$85,C74,$H$74:$H$85,"Met")/COUNTA($H$74:$H$85)*100,0)
A75: 74 | B75: Feb-26 | C75: Proficiency Testing Score | D75: 80 | E75: 81.5 | F75: % | G75: ≥ | H75: =IF(E75="","",IF(G75="≥",IF(E75>=D75,"Met","Not Met"),IF(E75<=D75,"Met","Not Met"))) | I75: =IF(E75="","",IF(G75="≥",E75-D75,D75-E75)) | J75: =IFERROR(AVERAGEIF($C$74:$C$85,C75,$E$74:$E$85),"") | K75: =IFERROR(COUNTIFS($C$74:$C$85,C75,$H$74:$H$85,"Met")/COUNTA($H$74:$H$85)*100,0)
A76: 75 | B76: Mar-26 | C76: Proficiency Testing Score | D76: 80 | E76: 81.5 | F76: % | G76: ≥ | H76: =IF(E76="","",IF(G76="≥",IF(E76>=D76,"Met","Not Met"),IF(E76<=D76,"Met","Not Met"))) | I76: =IF(E76="","",IF(G76="≥",E76-D76,D76-E76)) | J76: =IFERROR(AVERAGEIF($C$74:$C$85,C76,$E$74:$E$85),"") | K76: =IFERROR(COUNTIFS($C$74:$C$85,C76,$H$74:$H$85,"Met")/COUNTA($H$74:$H$85)*100,0)
A77: 76 | B77: Apr-26 | C77: Proficiency Testing Score | D77: 80 | E77: 80.5 | F77: % | G77: ≥ | H77: =IF(E77="","",IF(G77="≥",IF(E77>=D77,"Met","Not Met"),IF(E77<=D77,"Met","Not Met"))) | I77: =IF(E77="","",IF(G77="≥",E77-D77,D77-E77)) | J77: =IFERROR(AVERAGEIF($C$74:$C$85,C77,$E$74:$E$85),"") | K77: =IFERROR(COUNTIFS($C$74:$C$85,C77,$H$74:$H$85,"Met")/COUNTA($H$74:$H$85)*100,0)
A78: 77 | B78: May-26 | C78: Proficiency Testing Score | D78: 80 | E78: 81.5 | F78: % | G78: ≥ | H78: =IF(E78="","",IF(G78="≥",IF(E78>=D78,"Met","Not Met"),IF(E78<=D78,"Met","Not Met"))) | I78: =IF(E78="","",IF(G78="≥",E78-D78,D78-E78)) | J78: =IFERROR(AVERAGEIF($C$74:$C$85,C78,$E$74:$E$85),"") | K78: =IFERROR(COUNTIFS($C$74:$C$85,C78,$H$74:$H$85,"Met")/COUNTA($H$74:$H$85)*100,0)
A79: 78 | B79: Jun-26 | C79: Proficiency Testing Score | D79: 80 | E79: 81.5 | F79: % | G79: ≥ | H79: =IF(E79="","",IF(G79="≥",IF(E79>=D79,"Met","Not Met"),IF(E79<=D79,"Met","Not Met"))) | I79: =IF(E79="","",IF(G79="≥",E79-D79,D79-E79)) | J79: =IFERROR(AVERAGEIF($C$74:$C$85,C79,$E$74:$E$85),"") | K79: =IFERROR(COUNTIFS($C$74:$C$85,C79,$H$74:$H$85,"Met")/COUNTA($H$74:$H$85)*100,0)
A80: 79 | B80: Jul-26 | C80: Proficiency Testing Score | D80: 80 | E80: 80.5 | F80: % | G80: ≥ | H80: =IF(E80="","",IF(G80="≥",IF(E80>=D80,"Met","Not Met"),IF(E80<=D80,"Met","Not Met"))) | I80: =IF(E80="","",IF(G80="≥",E80-D80,D80-E80)) | J80: =IFERROR(AVERAGEIF($C$74:$C$85,C80,$E$74:$E$85),"") | K80: =IFERROR(COUNTIFS($C$74:$C$85,C80,$H$74:$H$85,"Met")/COUNTA($H$74:$H$85)*100,0)
A81: 80 | B81: Aug-26 | C81: Proficiency Testing Score | D81: 80 | E81: 81.5 | F81: % | G81: ≥ | H81: =IF(E81="","",IF(G81="≥",IF(E81>=D81,"Met","Not Met"),IF(E81<=D81,"Met","Not Met"))) | I81: =IF(E81="","",IF(G81="≥",E81-D81,D81-E81)) | J81: =IFERROR(AVERAGEIF($C$74:$C$85,C81,$E$74:$E$85),"") | K81: =IFERROR(COUNTIFS($C$74:$C$85,C81,$H$74:$H$85,"Met")/COUNTA($H$74:$H$85)*100,0)
A82: 81 | B82: Sep-26 | C82: Proficiency Testing Score | D82: 80 | E82: 81.5 | F82: % | G82: ≥ | H82: =IF(E82="","",IF(G82="≥",IF(E82>=D82,"Met","Not Met"),IF(E82<=D82,"Met","Not Met"))) | I82: =IF(E82="","",IF(G82="≥",E82-D82,D82-E82)) | J82: =IFERROR(AVERAGEIF($C$74:$C$85,C82,$E$74:$E$85),"") | K82: =IFERROR(COUNTIFS($C$74:$C$85,C82,$H$74:$H$85,"Met")/COUNTA($H$74:$H$85)*100,0)
A83: 82 | B83: Oct-26 | C83: Proficiency Testing Score | D83: 80 | E83: 80.5 | F83: % | G83: ≥ | H83: =IF(E83="","",IF(G83="≥",IF(E83>=D83,"Met","Not Met"),IF(E83<=D83,"Met","Not Met"))) | I83: =IF(E83="","",IF(G83="≥",E83-D83,D83-E83)) | J83: =IFERROR(AVERAGEIF($C$74:$C$85,C83,$E$74:$E$85),"") | K83: =IFERROR(COUNTIFS($C$74:$C$85,C83,$H$74:$H$85,"Met")/COUNTA($H$74:$H$85)*100,0)
A84: 83 | B84: Nov-26 | C84: Proficiency Testing Score | D84: 80 | E84: 81.5 | F84: % | G84: ≥ | H84: =IF(E84="","",IF(G84="≥",IF(E84>=D84,"Met","Not Met"),IF(E84<=D84,"Met","Not Met"))) | I84: =IF(E84="","",IF(G84="≥",E84-D84,D84-E84)) | J84: =IFERROR(AVERAGEIF($C$74:$C$85,C84,$E$74:$E$85),"") | K84: =IFERROR(COUNTIFS($C$74:$C$85,C84,$H$74:$H$85,"Met")/COUNTA($H$74:$H$85)*100,0)
A85: 84 | B85: Dec-26 | C85: Proficiency Testing Score | D85: 80 | E85: 81.5 | F85: % | G85: ≥ | H85: =IF(E85="","",IF(G85="≥",IF(E85>=D85,"Met","Not Met"),IF(E85<=D85,"Met","Not Met"))) | I85: =IF(E85="","",IF(G85="≥",E85-D85,D85-E85)) | J85: =IFERROR(AVERAGEIF($C$74:$C$85,C85,$E$74:$E$85),"") | K85: =IFERROR(COUNTIFS($C$74:$C$85,C85,$H$74:$H$85,"Met")/COUNTA($H$74:$H$85)*100,0)
A86: 85 | B86: Jan-26 | C86: Repeat Test Rate | D86: 5 | E86: 4.5 | F86: % | G86: ≤ | H86: =IF(E86="","",IF(G86="≥",IF(E86>=D86,"Met","Not Met"),IF(E86<=D86,"Met","Not Met"))) | I86: =IF(E86="","",IF(G86="≥",E86-D86,D86-E86)) | J86: =IFERROR(AVERAGEIF($C$86:$C$97,C86,$E$86:$E$97),"") | K86: =IFERROR(COUNTIFS($C$86:$C$97,C86,$H$86:$H$97,"Met")/COUNTA($H$86:$H$97)*100,0)
A87: 86 | B87: Feb-26 | C87: Repeat Test Rate | D87: 5 | E87: 5.3 | F87: % | G87: ≤ | H87: =IF(E87="","",IF(G87="≥",IF(E87>=D87,"Met","Not Met"),IF(E87<=D87,"Met","Not Met"))) | I87: =IF(E87="","",IF(G87="≥",E87-D87,D87-E87)) | J87: =IFERROR(AVERAGEIF($C$86:$C$97,C87,$E$86:$E$97),"") | K87: =IFERROR(COUNTIFS($C$86:$C$97,C87,$H$86:$H$97,"Met")/COUNTA($H$86:$H$97)*100,0)
A88: 87 | B88: Mar-26 | C88: Repeat Test Rate | D88: 5 | E88: 5.3 | F88: % | G88: ≤ | H88: =IF(E88="","",IF(G88="≥",IF(E88>=D88,"Met","Not Met"),IF(E88<=D88,"Met","Not Met"))) | I88: =IF(E88="","",IF(G88="≥",E88-D88,D88-E88)) | J88: =IFERROR(AVERAGEIF($C$86:$C$97,C88,$E$86:$E$97),"") | K88: =IFERROR(COUNTIFS($C$86:$C$97,C88,$H$86:$H$97,"Met")/COUNTA($H$86:$H$97)*100,0)
A89: 88 | B89: Apr-26 | C89: Repeat Test Rate | D89: 5 | E89: 4.5 | F89: % | G89: ≤ | H89: =IF(E89="","",IF(G89="≥",IF(E89>=D89,"Met","Not Met"),IF(E89<=D89,"Met","Not Met"))) | I89: =IF(E89="","",IF(G89="≥",E89-D89,D89-E89)) | J89: =IFERROR(AVERAGEIF($C$86:$C$97,C89,$E$86:$E$97),"") | K89: =IFERROR(COUNTIFS($C$86:$C$97,C89,$H$86:$H$97,"Met")/COUNTA($H$86:$H$97)*100,0)
A90: 89 | B90: May-26 | C90: Repeat Test Rate | D90: 5 | E90: 5.3 | F90: % | G90: ≤ | H90: =IF(E90="","",IF(G90="≥",IF(E90>=D90,"Met","Not Met"),IF(E90<=D90,"Met","Not Met"))) | I90: =IF(E90="","",IF(G90="≥",E90-D90,D90-E90)) | J90: =IFERROR(AVERAGEIF($C$86:$C$97,C90,$E$86:$E$97),"") | K90: =IFERROR(COUNTIFS($C$86:$C$97,C90,$H$86:$H$97,"Met")/COUNTA($H$86:$H$97)*100,0)
A91: 90 | B91: Jun-26 | C91: Repeat Test Rate | D91: 5 | E91: 5.3 | F91: % | G91: ≤ | H91: =IF(E91="","",IF(G91="≥",IF(E91>=D91,"Met","Not Met"),IF(E91<=D91,"Met","Not Met"))) | I91: =IF(E91="","",IF(G91="≥",E91-D91,D91-E91)) | J91: =IFERROR(AVERAGEIF($C$86:$C$97,C91,$E$86:$E$97),"") | K91: =IFERROR(COUNTIFS($C$86:$C$97,C91,$H$86:$H$97,"Met")/COUNTA($H$86:$H$97)*100,0)
A92: 91 | B92: Jul-26 | C92: Repeat Test Rate | D92: 5 | E92: 4.5 | F92: % | G92: ≤ | H92: =IF(E92="","",IF(G92="≥",IF(E92>=D92,"Met","Not Met"),IF(E92<=D92,"Met","Not Met"))) | I92: =IF(E92="","",IF(G92="≥",E92-D92,D92-E92)) | J92: =IFERROR(AVERAGEIF($C$86:$C$97,C92,$E$86:$E$97),"") | K92: =IFERROR(COUNTIFS($C$86:$C$97,C92,$H$86:$H$97,"Met")/COUNTA($H$86:$H$97)*100,0)
A93: 92 | B93: Aug-26 | C93: Repeat Test Rate | D93: 5 | E93: 5.3 | F93: % | G93: ≤ | H93: =IF(E93="","",IF(G93="≥",IF(E93>=D93,"Met","Not Met"),IF(E93<=D93,"Met","Not Met"))) | I93: =IF(E93="","",IF(G93="≥",E93-D93,D93-E93)) | J93: =IFERROR(AVERAGEIF($C$86:$C$97,C93,$E$86:$E$97),"") | K93: =IFERROR(COUNTIFS($C$86:$C$97,C93,$H$86:$H$97,"Met")/COUNTA($H$86:$H$97)*100,0)
A94: 93 | B94: Sep-26 | C94: Repeat Test Rate | D94: 5 | E94: 5.3 | F94: % | G94: ≤ | H94: =IF(E94="","",IF(G94="≥",IF(E94>=D94,"Met","Not Met"),IF(E94<=D94,"Met","Not Met"))) | I94: =IF(E94="","",IF(G94="≥",E94-D94,D94-E94)) | J94: =IFERROR(AVERAGEIF($C$86:$C$97,C94,$E$86:$E$97),"") | K94: =IFERROR(COUNTIFS($C$86:$C$97,C94,$H$86:$H$97,"Met")/COUNTA($H$86:$H$97)*100,0)
A95: 94 | B95: Oct-26 | C95: Repeat Test Rate | D95: 5 | E95: 4.5 | F95: % | G95: ≤ | H95: =IF(E95="","",IF(G95="≥",IF(E95>=D95,"Met","Not Met"),IF(E95<=D95,"Met","Not Met"))) | I95: =IF(E95="","",IF(G95="≥",E95-D95,D95-E95)) | J95: =IFERROR(AVERAGEIF($C$86:$C$97,C95,$E$86:$E$97),"") | K95: =IFERROR(COUNTIFS($C$86:$C$97,C95,$H$86:$H$97,"Met")/COUNTA($H$86:$H$97)*100,0)
A96: 95 | B96: Nov-26 | C96: Repeat Test Rate | D96: 5 | E96: 5.3 | F96: % | G96: ≤ | H96: =IF(E96="","",IF(G96="≥",IF(E96>=D96,"Met","Not Met"),IF(E96<=D96,"Met","Not Met"))) | I96: =IF(E96="","",IF(G96="≥",E96-D96,D96-E96)) | J96: =IFERROR(AVERAGEIF($C$86:$C$97,C96,$E$86:$E$97),"") | K96: =IFERROR(COUNTIFS($C$86:$C$97,C96,$H$86:$H$97,"Met")/COUNTA($H$86:$H$97)*100,0)
A97: 96 | B97: Dec-26 | C97: Repeat Test Rate | D97: 5 | E97: 5.3 | F97: % | G97: ≤ | H97: =IF(E97="","",IF(G97="≥",IF(E97>=D97,"Met","Not Met"),IF(E97<=D97,"Met","Not Met"))) | I97: =IF(E97="","",IF(G97="≥",E97-D97,D97-E97)) | J97: =IFERROR(AVERAGEIF($C$86:$C$97,C97,$E$86:$E$97),"") | K97: =IFERROR(COUNTIFS($C$86:$C$97,C97,$H$86:$H$97,"Met")/COUNTA($H$86:$H$97)*100,0)

Sheet Dashboard
B2: Quality Indicator Dashboard
B4: Indicator Summary
B5: Indicator | C5: Target | D5: Latest Actual | E5: Status | F5: YTD % Met
B6: Turnaround Time - Routine (hours) | C6: 4 | D6: =IFERROR(LOOKUP(2,1/('KPI Data'!E2:E13<>""),'KPI Data'!E2:E13),"-") | E6: =IF(D6="-","",IF("≤"="≥",IF(D6>=4,"Met","Not Met"),IF(D6<=4,"Met","Not Met"))) | F6: =IFERROR('KPI Data'!K2/100,"-")
B7: Turnaround Time - STAT (hours) | C7: 2 | D7: =IFERROR(LOOKUP(2,1/('KPI Data'!E14:E25<>""),'KPI Data'!E14:E25),"-") | E7: =IF(D7="-","",IF("≤"="≥",IF(D7>=2,"Met","Not Met"),IF(D7<=2,"Met","Not Met"))) | F7: =IFERROR('KPI Data'!K14/100,"-")
B8: Sample Rejection Rate (%) | C8: 2 | D8: =IFERROR(LOOKUP(2,1/('KPI Data'!E26:E37<>""),'KPI Data'!E26:E37),"-") | E8: =IF(D8="-","",IF("≤"="≥",IF(D8>=2,"Met","Not Met"),IF(D8<=2,"Met","Not Met"))) | F8: =IFERROR('KPI Data'!K26/100,"-")
B9: Critical Value Reporting Time (min) | C9: 30 | D9: =IFERROR(LOOKUP(2,1/('KPI Data'!E38:E49<>""),'KPI Data'!E38:E49),"-") | E9: =IF(D9="-","",IF("≤"="≥",IF(D9>=30,"Met","Not Met"),IF(D9<=30,"Met","Not Met"))) | F9: =IFERROR('KPI Data'!K38/100,"-")
B10: CAPA Closure Rate (30 days) (%) | C10: 90 | D10: =IFERROR(LOOKUP(2,1/('KPI Data'!E50:E61<>""),'KPI Data'!E50:E61),"-") | E10: =IF(D10="-","",IF("≥"="≥",IF(D10>=90,"Met","Not Met"),IF(D10<=90,"Met","Not Met"))) | F10: =IFERROR('KPI Data'!K50/100,"-")
B11: QC Pass Rate (%) | C11: 95 | D11: =IFERROR(LOOKUP(2,1/('KPI Data'!E62:E73<>""),'KPI Data'!E62:E73),"-") | E11: =IF(D11="-","",IF("≥"="≥",IF(D11>=95,"Met","Not Met"),IF(D11<=95,"Met","Not Met"))) | F11: =IFERROR('KPI Data'!K62/100,"-")
B12: Proficiency Testing Score (%) | C12: 80 | D12: =IFERROR(LOOKUP(2,1/('KPI Data'!E74:E85<>""),'KPI Data'!E74:E85),"-") | E12: =IF(D12="-","",IF("≥"="≥",IF(D12>=80,"Met","Not Met"),IF(D12<=80,"Met","Not Met"))) | F12: =IFERROR('KPI Data'!K74/100,"-")
B13: Repeat Test Rate (%) | C13: 5 | D13: =IFERROR(LOOKUP(2,1/('KPI Data'!E86:E97<>""),'KPI Data'!E86:E97),"-") | E13: =IF(D13="-","",IF("≤"="≥",IF(D13>=5,"Met","Not Met"),IF(D13<=5,"Met","Not Met"))) | F13: =IFERROR('KPI Data'!K86/100,"-")
B22: Overall Performance
B24: Indicators Tracked | D24: Met This Month | F24: Not Met | H24: Overall Compliance %
B25: =COUNTA(Dashboard!B6:B13) | D25: =COUNTIF(Dashboard!E6:E13,"Met") | F25: =COUNTIF(Dashboard!E6:E13,"Not Met") | H25: =IFERROR(COUNTIF(Dashboard!E6:E13,"Met")/(COUNTIF(Dashboard!E6:E13,"Met")+COUNTIF(Dashboard!E6:E13,"Not Met"))*100,0)
