Workbook

Sheet Cover
B9: Quality Indicator Dashboard
B10: AHQS — Accelerate Healthcare Quality Solutions
B13: A comprehensive KPI tracking tool for laboratory quality indicators with monthly data entry, target comparison, YTD performance, trend charts, and a RAG status dashboard.
B15: Key Features
B16: • 8 key laboratory quality indicators with 12-month tracking
B17: • Auto-calculated compliance status (Met/Not Met)
B18: • YTD performance percentage
B19: • Trend line charts for each indicator
B20: • RAG (Red/Amber/Green) status dashboard
B21: • Target direction support (higher is better / lower is better)
B23: How to Use
B24: 1. Start with the Data Entry sheet — fill in yellow-shaded input cells only
... B34: Tool ID: AHQS-KPI-002 | Version: 2.0 | Created: October 2026 | AHQS Healthcare Quality Solutions

Sheet KPI Data
A1: # | B1: Month | C1: Indicator | D1: Target | E1: Actual | F1: Unit | G1: Direction | H1: Status | I1: Variance | J1: YTD Avg | K1: YTD % Met
A2: 1 | B2: Jan-26 | C2: Turnaround Time - Routine | D2: 4 | E2: 3.5 | F2: hours | G2: ≤ | H2: =IF(E2="","",IF(G2="≥",IF(E2>=D2,"Met","Not Met"),IF(E2<=D2,"Met","Not Met"))) | I2: =IF(E2="","",IF(G2="≥",E2-D2,D2-E2)) | J2: =IFERROR(AVERAGEIF($C$2:$C$13,C2,$E$2:$E$13),"") | K2: =IFERROR(COUNTIFS($C$2:$C$13,C2,$H$2:$H$13,"Met")/COUNTA($H$2:$H$13)*100,0)
A3: 2 | B3: Feb-26 | C3: Turnaround Time - Routine | D3: 4 | E3: 4.3 | F3: hours | G3: ≤ | H3: =IF(E3="","",IF(G3="≥",IF(E3>=D3,"Met","Not Met"),IF(E3<=D3,"Met","Not Met"))) | I3: =IF(E3="","",IF(G3="≥",E3-D3,D3-E3)) | J3: =IFERROR(AVERAGEIF($C$2:$C$13,C3,$E$2:$E$13),"") | K3: =IFERROR(COUNTIFS($C$2:$C$13,C3,$H$2:$H$13,"Met")/COUNTA($H$2:$H$13)*100,0)
A4: 3 | B4: Mar-26 | C4: Turnaround Time - Routine | D4: 4 | E4: 4.3 | F4: hours | G4: ≤ | H4: =IF(E4="","",IF(G4="≥",IF(E4>=D4,"Met","Not Met"),IF(E4<=D4,"Met","Not Met"))) | I4: =IF(E4="","",IF(G4="≥",E4-D4,D4-E4)) | J4: =IFERROR(AVERAGEIF($C$2:$C$13,C4,$E$2:$E$13),"") | K4: =IFERROR(COUNTIFS($C$2:$C$13,C4,$H$2:$H$13,"Met")/COUNTA($H$2:$H$13)*100,0)
A5: 4 | B5: Apr-26 | C5: Turnaround Time - Routine | D5: 4 | E5: 3.5 | F5: hours | G5: ≤ | H5: =IF(E5="","",IF(G5="≥",IF(E5>=D5,"Met","Not Met"),IF(E5<=D5,"Met","Not Met"))) | I5: =IF(E5="","",IF(G5="≥",E5-D5,D5-E5)) | J5: =IFERROR(AVERAGEIF($C$2:$C$13,C5,$E$2:$E$13),"") | K5: =IFERROR(COUNTIFS($C$2:$C$13,C5,$H$2:$H$13,"Met")/COUNTA($H$2:$H$13)*100,0)
A6: 5 | B6: May-26 | C6: Turnaround Time - Routine | D6: 4 | E6: 4.3 | F6: hours | G6: ≤ | H6: =IF(E6="","",IF(G6="≥",IF(E6>=D6,"Met","Not Met"),IF(E6<=D6,"Met","Not Met"))) | I6: =IF(E6="","",IF(G6="≥",E6-D6,D6-E6)) | J6: =IFERROR(AVERAGEIF($C$2:$C$13,C6,$E$2:$E$13),"") | K6: =IFERROR(COUNTIFS($C$2:$C$13,C6,$H$2:$H$13,"Met")/COUNTA($H$2:$H$13)*100,0)
A7: 6 | B7: Jun-26 | C7: Turnaround Time - Routine | D7: 4 | E7: 4.3 | F7: hours | G7: ≤ | H7: =IF(E7="","",IF(G7="≥",IF(E7>=D7,"Met","Not Met"),IF(E7<=D7,"Met","Not Met"))) | I7: =IF(E7="","",IF(G7="≥",E7-D7,D7-E7)) | J7: =IFERROR(AVERAGEIF($C$2:$C$13,C7,$E$2:$E$13),"") | K7: =IFERROR(COUNTIFS($C$2:$C$13,C7,$H$2:$H$13,"Met")/COUNTA($H$2:$H$13)*100,0)
A8: 7 | B8: Jul-26 | C8: Turnaround Time - Routine | D8: 4 | E8: 3.5 | F8: hours | G8: ≤ | H8: =IF(E8="","",IF(G8="≥",IF(E8>=D8,"Met","Not Met"),IF(E8<=D8,"Met","Not Met"))) | I8: =IF(E8="","",IF(G8="≥",E8-D8,D8-E8)) | J8: =IFERROR(AVERAGEIF($C$2:$C$13,C8,$E$2:$E$13),"") | K8: =IFERROR(COUNTIFS($C$2:$C$13,C8,$H$2:$H$13,"Met")/COUNTA($H$2:$H$13)*100,0)
A9: 8 | B9: Aug-26 | C9: Turnaround Time - Routine | D9: 4 | E9: 4.3 | F9: hours | G9: ≤ | H9: =IF(E9="","",IF(G9="≥",IF(E9>=D9,"Met","Not Met"),IF(E9<=D9,"Met","Not Met"))) | I9: =IF(E9="","",IF(G9="≥",E9-D9,D9-E9)) | J9: =IFERROR(AVERAGEIF($C$2:$C$13,C9,$E$2:$E$13),"") | K9: =IFERROR(COUNTIFS($C$2:$C$13,C9,$H$2:$H$13,"Met")/COUNTA($H$2:$H$13)*100,0)
A10: 9 | B10: Sep-26 | C10: Turnaround Time - Routine | D10: 4 | E10: 4.3 | F10: hours | G10: ≤ | H10: =IF(E10="","",IF(G10="≥",IF(E10>=D10,"Met","Not Met"),IF(E10<=D10,"Met","Not Met"))) | I10: =IF(E10="","",IF(G10="≥",E10-D10,D10-E10)) | J10: =IFERROR(AVERAGEIF($C$2:$C$13,C10,$E$2:$E$13),"") | K10: =IFERROR(COUNTIFS($C$2:$C$13,C10,$H$2:$H$13,"Met")/COUNTA($H$2:$H$13)*100,0)
A11: 10 | B11: Oct-26 | C11: Turnaround Time - Routine | D11: 4 | E11: 3.5 | F11: hours | G11: ≤ | H11: =IF(E11="","",IF(G11="≥",IF(E11>=D11,"Met","Not Met"),IF(E11<=D11,"Met","Not Met"))) | I11: =IF(E11="","",IF(G11="≥",E11-D11,D11-E11)) | J11: =IFERROR(AVERAGEIF($C$2:$C$13,C11,$E$2:$E$13),"") | K11: =IFERROR(COUNTIFS($C$2:$C$13,C11,$H$2:$H$13,"Met")/COUNTA($H$2:$H$13)*100,0)
A12: 11 | B12: Nov-26 | C12: Turnaround Time - Routine | D12: 4 | E12: 4.3 | F12: hours | G12: ≤ | H12: =IF(E12="","",IF(G12="≥",IF(E12>=D12,"Met","Not Met"),IF(E12<=D12,"Met","Not Met"))) | I12: =IF(E12="","",IF(G12="≥",E12-D12,D12-E12)) | J12: =IFERROR(AVERAGEIF($C$2:$C$13,C12,$E$2:$E$13),"") | K12: =IFERROR(COUNTIFS($C$2:$C$13,C12,$H$2:$H$13,"Met")/COUNTA($H$2:$H$13)*100,0)
A13: 12 | B13: Dec-26 | C13: Turnaround Time - Routine | D13: 4 | E13: 4.3 | F13: hours | G13: ≤ | H13: =IF(E13="","",IF(G13="≥",IF(E13>=D13,"Met","Not Met"),IF(E13<=D13,"Met","Not Met"))) | I13: =IF(E13="","",IF(G13="≥",E13-D13,D13-E13)) | J13: =IFERROR(AVERAGEIF($C$2:$C$13,C13,$E$2:$E$13),"") | K13: =IFERROR(COUNTIFS($C$2:$C$13,C13,$H$2:$H$13,"Met")/COUNTA($H$2:$H$13)*100,0)
A14: 13 | B14: Jan-26 | C14: Turnaround Time - STAT | D14: 2 | E14: 1.5 | F14: hours | G14: ≤ | H14: =IF(E14="","",IF(G14="≥",IF(E14>=D14,"Met","Not Met"),IF(E14<=D14,"Met","Not Met"))) | I14: =IF(E14="","",IF(G14="≥",E14-D14,D14-E14)) | J14: =IFERROR(AVERAGEIF($C$14:$C$25,C14,$E$14:$E$25),"") | K14: =IFERROR(COUNTIFS($C$14:$C$25,C14,$H$14:$H$25,"Met")/COUNTA($H$14:$H$25)*100,0)
A15: 14 | B15: Feb-26 | C15: Turnaround Time - STAT | D15: 2 | E15: 2.3 | F15: hours | G15: ≤ | H15: =IF(E15="","",IF(G15="≥",IF(E15>=D15,"Met","Not Met"),IF(E15<=D15,"Met","Not Met"))) | I15: =IF(E15="","",IF(G15="≥",E15-D15,D15-E15)) | J15: =IFERROR(AVERAGEIF($C$14:$C$25,C15,$E$14:$E$25),"") | K15: =IFERROR(COUNTIFS($C$14:$C$25,C15,$H$14:$H$25,"Met")/COUNTA($H$14:$H$25)*100,0)
A16: 15 | B16: Mar-26 | C16: Turnaround Time - STAT | D16: 2 | E16: 2.3 | F16: hours | G16: ≤ | H16: =IF(E16="","",IF(G16="≥",IF(E16>=D16,"Met","Not Met"),IF(E16<=D16,"Met","Not Met"))) | I16: =IF(E16="","",IF(G16="≥",E16-D16,D16-E16)) | J16: =IFERROR(AVERAGEIF($C$14:$C$25,C16,$E$14:$E$25),"") | K16: =IFERROR(COUNTIFS($C$14:$C$25,C16,$H$14:$H$25,"Met")/COUNTA($H$14:$H$25)*100,0)
A17: 16 | B17: Apr-26 | C17: Turnaround Time - STAT | D17: 2 | E17: 1.5 | F17: hours | G17: ≤ | H17: =IF(E17="","",IF(G17="≥",IF(E17>=D17,"Met","Not Met"),IF(E17<=D17,"Met","Not Met"))) | I17: =IF(E17="","",IF(G17="≥",E17-D17,D17-E17)) | J17: =IFERROR(AVERAGEIF($C$14:$C$25,C17,$E$14:$E$25),"") | K17: =IFERROR(COUNTIFS($C$14:$C$25,C17,$H$14:$H$25,"Met")/COUNTA($H$14:$H$25)*100,0)
A18: 17 | B18: May-26 | C18: Turnaround Time - STAT | D18: 2 | E18: 2.3 | F18: hours | G18: ≤ | H18: =IF(E18="","",IF(G18="≥",IF(E18>=D18,"Met","Not Met"),IF(E18<=D18,"Met","Not Met"))) | I18: =IF(E18="","",IF(G18="≥",E18-D18,D18-E18)) | J18: =IFERROR(AVERAGEIF($C$14:$C$25,C18,$E$14:$E$25),"") | K18: =IFERROR(COUNTIFS($C$14:$C$25,C18,$H$14:$H$25,"Met")/COUNTA($H$14:$H$25)*100,0)
A19: 18 | B19: Jun-26 | C19: Turnaround Time - STAT | D19: 2 | E19: 2.3 | F19: hours | G19: ≤ | H19: =IF(E19="","",IF(G19="≥",IF(E19>=D19,"Met","Not Met"),IF(E19<=D19,"Met","Not Met"))) | I19: =IF(E19="","",IF(G19="≥",E19-D19,D19-E19)) | J19: =IFERROR(AVERAGEIF($C$14:$C$25,C19,$E$14:$E$25),"") | K19: =IFERROR(COUNTIFS($C$14:$C$25,C19,$H$14:$H$25,"Met")/COUNTA($H$14:$H$25)*100,0)
A20: 19 | B20: Jul-26 | C20: Turnaround Time - STAT | D20: 2 | E20: 1.5 | F20: hours | G20: ≤ | H20: =IF(E20="","",IF(G20="≥",IF(E20>=D20,"Met","Not Met"),IF(E20<=D20,"Met","Not Met"))) | I20: =IF(E20="","",IF(G20="≥",E20-D20,D20-E20)) | J20: =IFERROR(AVERAGEIF($C$14:$C$25,C20,$E$14:$E$25),"") | K20: =IFERROR(COUNTIFS($C$14:$C$25,C20,$H$14:$H$25,"Met")/COUNTA($H$14:$H$25)*100,0)
A21: 20 | B21: Aug-26 | C21: Turnaround Time - STAT | D21: 2 | E21: 2.3 | F21: hours | G21: ≤ | H21: =IF(E21="","",IF(G21="≥",IF(E21>=D21,"Met","Not Met"),IF(E21<=D21,"Met","Not Met"))) | I21: =IF(E21="","",IF(G21="≥",E21-D21,D21-E21)) | J21: =IFERROR(AVERAGEIF($C$14:$C$25,C21,$E$14:$E$25),"") | K21: =IFERROR(COUNTIFS($C$14:$C$25,C21,$H$14:$H$25,"Met")/COUNTA($H$14:$H$25)*100,0)
A22: 21 | B22: Sep-26 | C22: Turnaround Time - STAT | D22: 2 | E22: 2.3 | F22: hours | G22: ≤ | H22: =IF(E22="","",IF(G22="≥",IF(E22>=D22,"Met","Not Met"),IF(E22<=D22,"Met","Not Met"))) | I22: =IF(E22="","",IF(G22="≥",E22-D22,D22-E22)) | J22: =IFERROR(AVERAGEIF($C$14:$C$25,C22,$E$14:$E$25),"") | K22: =IFERROR(COUNTIFS($C$14:$C$25,C22,$H$14:$H$25,"Met")/COUNTA($H$14:$H$25)*100,0)
A23: 22 | B23: Oct-26 | C23: Turnaround Time - STAT | D23: 2 | E23: 1.5 | F23: hours | G23: ≤ | H23: =IF(E23="","",IF(G23="≥",IF(E23>=D23,"Met","Not Met"),IF(E23<=D23,"Met","Not Met"))) | I23: =IF(E23="","",IF(G23="≥",E23-D23,D23-E23)) | J23: =IFERROR(AVERAGEIF($C$14:$C$25,C23,$E$14:$E$25),"") | K23: =IFERROR(COUNTIFS($C$14:$C$25,C23,$H$14:$H$25,"Met")/COUNTA($H$14:$H$25)*100,0)
A24: 23 | B24: Nov-26 | C24: Turnaround Time - STAT | D24: 2 | E24: 2.3 | F24: hours | G24: ≤ | H24: =IF(E24="","",IF(G24="≥",IF(E24>=D24,"Met","Not Met"),IF(E24<=D24,"Met","Not Met"))) | I24: =IF(E24="","",IF(G24="≥",E24-D24,D24-E24)) | J24: =IFERROR(AVERAGEIF($C$14:$C$25,C24,$E$14:$E$25),"") | K24: =IFERROR(COUNTIFS($C$14:$C$25,C24,$H$14:$H$25,"Met")/COUNTA($H$14:$H$25)*100,0)
A25: 24 | B25: Dec-26 | C25: Turnaround Time - STAT | D25: 2 | E25: 2.3 | F25: hours | G25: ≤ | H25: =IF(E25="","",IF(G25="≥",IF(E25>=D25,"Met","Not Met"),IF(E25<=D25,"Met","Not Met"))) | I25: =IF(E25="","",IF(G25="≥",E25-D25,D25-E25)) | J25: =IFERROR(AVERAGEIF($C$14:$C$25,C25,$E$14:$E$25),"") | K25: =IFERROR(COUNTIFS($C$14:$C$25,C25,$H$14:$H$25,"Met")/COUNTA($H$14:$H$25)*100,0)
A26: 25 | B26: Jan-26 | C26: Sample Rejection Rate | D26: 2 | E26: 1.5 | F26: % | G26: ≤ | H26: =IF(E26="","",IF(G26="≥",IF(E26>=D26,"Met","Not Met"),IF(E26<=D26,"Met","Not Met"))) | I26: =IF(E26="","",IF(G26="≥",E26-D26,D26-E26)) | J26: =IFERROR(AVERAGEIF($C$26:$C$37,C26,$E$26:$E$37),"") | K26: =IFERROR(COUNTIFS($C$26:$C$37,C26,$H$26:$H$37,"Met")/COUNTA($H$26:$H$37)*100,0)
A27: 26 | B27: Feb-26 | C27: Sample Rejection Rate | D27: 2 | E27: 2.3 | F27: % | G27: ≤ | H27: =IF(E27="","",IF(G27="≥",IF(E27>=D27,"Met","Not Met"),IF(E27<=D27,"Met","Not Met"))) | I27: =IF(E27="","",IF(G27="≥",E27-D27,D27-E27)) | J27: =IFERROR(AVERAGEIF($C$26:$C$37,C27,$E$26:$E$37),"") | K27: =IFERROR(COUNTIFS($C$26:$C$37,C27,$H$26:$H$37,"Met")/COUNTA($H$26:$H$37)*100,0)
A28: 27 | B28: Mar-26 | C28: Sample Rejection Rate | D28: 2 | E28: 2.3 | F28: % | G28: ≤ | H28: =IF(E28="","",IF(G28="≥",IF(E28>=D28,"Met","Not Met"),IF(E28<=D28,"Met","Not Met"))) | I28: =IF(E28="","",IF(G28="≥",E28-D28,D28-E28)) | J28: =IFERROR(AVERAGEIF($C$26:$C$37,C28,$E$26:$E$37),"") | K28: =IFERROR(COUNTIFS($C$26:$C$37,C28,$H$26:$H$37,"Met")/COUNTA($H$26:$H$37)*100,0)
A29: 28 | B29: Apr-26 | C29: Sample Rejection Rate | D29: 2 | E29: 1.5 | F29: % | G29: ≤ | H29: =IF(E29="","",IF(G29="≥",IF(E29>=D29,"Met","Not Met"),IF(E29<=D29,"Met","Not Met"))) | I29: =IF(E29="","",IF(G29="≥",E29-D29,D29-E29)) | J29: =IFERROR(AVERAGEIF($C$26:$C$37,C29,$E$26:$E$37),"") | K29: =IFERROR(COUNTIFS($C$26:$C$37,C29,$H$26:$H$37,"Met")/COUNTA($H$26:$H$37)*100,0)
A30: 29 | B30: May-26 | C30: Sample Rejection Rate | D30: 2 | E30: 2.3 | F30: % | G30: ≤ | H30: =IF(E30="","",IF(G30="≥",IF(E30>=D30,"Met","Not Met"),IF(E30<=D30,"Met","Not Met"))) | I30: =IF(E30="","",IF(G30="≥",E30-D30,D30-E30)) | J30: =IFERROR(AVERAGEIF($C$26:$C$37,C30,$E$26:$E$37),"") | K30: =IFERROR(COUNTIFS($C$26:$C$37,C30,$H$26:$H$37,"Met")/COUNTA($H$26:$H$37)*100,0)
A31: 30 | B31: Jun-26 | C31: Sample Rejection Rate | D31: 2 | E31: 2.3 | F31: % | G31: ≤ | H31: =IF(E31="","",IF(G31="≥",IF(E31>=D31,"Met","Not Met"),IF(E31<=D31,"Met","Not Met"))) | I31: =IF(E31="","",IF(G31="≥",E31-D31,D31-E31)) | J31: =IFERROR(AVERAGEIF($C$26:$C$37,C31,$E$26:$E$37),"") | K31: =IFERROR(COUNTIFS($C$26:$C$37,C31,$H$26:$H$37,"Met")/COUNTA($H$26:$H$37)*100,0)
A32: 31 | B32: Jul-26 | C32: Sample Rejection Rate | D32: 2 | E32: 1.5 | F32: % | G32: ≤ | H32: =IF(E32="","",IF(G32="≥",IF(E32>=D32,"Met","Not Met"),IF(E32<=D32,"Met","Not Met"))) | I32: =IF(E32="","",IF(G32="≥",E32-D32,D32-E32)) | J32: =IFERROR(AVERAGEIF($C$26:$C$37,C32,$E$26:$E$37),"") | K32: =IFERROR(COUNTIFS($C$26:$C$37,C32,$H$26:$H$37,"Met")/COUNTA($H$26:$H$37)*100,0)
A33: 32 | B33: Aug-26 | C33: Sample Rejection Rate | D33: 2 | E33: 2.3 | F33: % | G33: ≤ | H33: =IF(E33="","",IF(G33="≥",IF(E33>=D33,"Met","Not Met"),IF(E33<=D33,"Met","Not Met"))) | I33: =IF(E33="","",IF(G33="≥",E33-D33,D33-E33)) | J33: =IFERROR(AVERAGEIF($C$26:$C$37,C33,$E$26:$E$37),"") | K33: =IFERROR(COUNTIFS($C$26:$C$37,C33,$H$26:$H$37,"Met")/COUNTA($H$26:$H$37)*100,0)
A34: 33 | B34: Sep-26 | C34: Sample Rejection Rate | D34: 2 | E34: 2.3 | F34: % | G34: ≤ | H34: =IF(E34="","",IF(G34="≥",IF(E34>=D34,"Met","Not Met"),IF(E34<=D34,"Met","Not Met"))) | I34: =IF(E34="","",IF(G34="≥",E34-D34,D34-E34)) | J34: =IFERROR(AVERAGEIF($C$26:$C$37,C34,$E$26:$E$37),"") | K34: =IFERROR(COUNTIFS($C$26:$C$37,C34,$H$26:$H$37,"Met")/COUNTA($H$26:$H$37)*100,0)
A35: 34 | B35: Oct-26 | C35: Sample Rejection Rate | D35: 2 | E35: 1.5 | F35: % | G35: ≤ | H35: =IF(E35="","",IF(G35="≥",IF(E35>=D35,"Met","Not Met"),IF(E35<=D35,"Met","Not Met"))) | I35: =IF(E35="","",IF(G35="≥",E35-D35,D35-E35)) | J35: =IFERROR(AVERAGEIF($C$26:$C$37,C35,$E$26:$E$37),"") | K35: =IFERROR(COUNTIFS($C$26:$C$37,C35,$H$26:$H$37,"Met")/COUNTA($H$26:$H$37)*100,0)
A36: 35 | B36: Nov-26 | C36: Sample Rejection Rate | D36: 2 | E36: 2.3 | F36: % | G36: ≤ | H36: =IF(E36="","",IF(G36="≥",IF(E36>=D36,"Met","Not Met"),IF(E36<=D36,"Met","Not Met"))) | I36: =IF(E36="","",IF(G36="≥",E36-D36,D36-E36)) | J36: =IFERROR(AVERAGEIF($C$26:$C$37,C36,$E$26:$E$37),"") | K36: =IFERROR(COUNTIFS($C$26:$C$37,C36,$H$26:$H$37,"Met")/COUNTA($H$26:$H$37)*100,0)
A37: 36 | B37: Dec-26 | C37: Sample Rejection Rate | D37: 2 | E37: 2.3 | F37: % | G37: ≤ | H37: =IF(E37="","",IF(G37="≥",IF(E37>=D37,"Met","Not Met"),IF(E37<=D37,"Met","Not Met"))) | I37: =IF(E37="","",IF(G37="≥",E37-D37,D37-E37)) | J37: =IFERROR(AVERAGEIF($C$26:$C$37,C37,$E$26:$E$37),"") | K37: =IFERROR(COUNTIFS($C$26:$C$37,C37,$H$26:$H$37,"Met")/COUNTA($H$26:$H$37)*100,0)
A38: 37 | B38: Jan-26 | C38: Critical Value Reporting Time | D38: 30 | E38: 29.5 | F38: min | G38: ≤ | H38: =IF(E38="","",IF(G38="≥",IF(E38>=D38,"Met","Not Met"),IF(E38<=D38,"Met","Not Met"))) | I38: =IF(E38="","",IF(G38="≥",E38-D38,D38-E38)) | J38: =IFERROR(AVERAGEIF($C$38:$C$49,C38,$E$38:$E$49),"") | K38: =IFERROR(COUNTIFS($C$38:$C$49,C38,$H$38:$H$49,"Met")/COUNTA($H$38:$H$49)*100,0)
A39: 38 | B39: Feb-26 | C39: Critical Value Reporting Time | D39: 30 | E39: 30.3 | F39: min | G39: ≤ | H39: =IF(E39="","",IF(G39="≥",IF(E39>=D39,"Met","Not Met"),IF(E39<=D39,"Met","Not Met"))) | I39: =IF(E39="","",IF(G39="≥",E39-D39,D39-E39)) | J39: =IFERROR(AVERAGEIF($C$38:$C$49,C39,$E$38:$E$49),"") | K39: =IFERROR(COUNTIFS($C$38:$C$49,C39,$H$38:$H$49,"Met")/COUNTA($H$38:$H$49)*100,0)
A40: 39 | B40: Mar-26 | C40: Critical Value Reporting Time | D40: 30 | E40: 30.3 | F40: min | G40: ≤ | H40: =IF(E40="","",IF(G40="≥",IF(E40>=D40,"Met","Not Met"),IF(E40<=D40,"Met","Not Met"))) | I40: =IF(E40="","",IF(G40="≥",E40-D40,D40-E40)) | J40: =IFERROR(AVERAGEIF($C$38:$C$49,C40,$E$38:$E$49),"") | K40: =IFERROR(COUNTIFS($C$38:$C$49,C40,$H$38:$H$49,"Met")/COUNTA($H$38:$H$49)*100,0)
...

Sheet Dashboard
B2: Quality Indicator Dashboard
B4: Indicator Summary
B5: Indicator | C5: Target | D5: Latest Actual | E5: Status | F5: YTD % Met
B6: Turnaround Time - Routine (hours) | C6: 4 | D6: =IFERROR(LOOKUP(2,1/('KPI Data'!E2:E13<>""),'KPI Data'!E2:E13),"-") | E6: =IF(D6="-","",IF("≤"="≥",IF(D6>=4,"Met","Not Met"),IF(D6<=4,"Met","Not Met"))) | F6: =IFERROR('KPI Data'!K2/100,"-")
B7: Turnaround Time - STAT (hours) | C7: 2 | D7: =IFERROR(LOOKUP(2,1/('KPI Data'!E14:E25<>""),'KPI Data'!E14:E25),"-") | E7: =IF(D7="-","",IF("≤"="≥",IF(D7>=2,"Met","Not Met"),IF(D7<=2,"Met","Not Met"))) | F7: =IFERROR('KPI Data'!K14/100,"-")
B8: Sample Rejection Rate (%) | C8: 2 | D8: =IFERROR(LOOKUP(2,1/('KPI Data'!E26:E37<>""),'KPI Data'!E26:E37),"-") | E8: =IF(D8="-","",IF("≤"="≥",IF(D8>=2,"Met","Not Met"),IF(D8<=2,"Met","Not Met"))) | F8: =IFERROR('KPI Data'!K26/100,"-")
B9: Critical Value Reporting Time (min) | C9: 30 | D9: =IFERROR(LOOKUP(2,1/('KPI Data'!E38:E49<>""),'KPI Data'!E38:E49),"-") | E9: =IF(D9="-","",IF("≤"="≥",IF(D9>=30,"Met","Not Met"),IF(D9<=30,"Met","Not Met"))) | F9: =IFERROR('KPI Data'!K38/100,"-")
B10: CAPA Closure Rate (30 days) (%) | C10: 90 | D10: =IFERROR(LOOKUP(2,1/('KPI Data'!E50:E61<>""),'KPI Data'!E50:E61),"-") | E10: =IF(D10="-","",IF("≥"="≥",IF(D10>=90,"Met","Not Met"),IF(D10<=90,"Met","Not Met"))) | F10: =IFERROR('KPI Data'!K50/100,"-")
B11: QC Pass Rate (%) | C11: 95 | D11: =IFERROR(LOOKUP(2,1/('KPI Data'!E62:E73<>""),'KPI Data'!E62:E73),"-") | E11: =IF(D11="-","",IF("≥"="≥",IF(D11>=95,"Met","Not Met"),IF(D11<=95,"Met","Not Met"))) | F11: =IFERROR('KPI Data'!K62/100,"-")
B12: Proficiency Testing Score (%) | C12: 80 | D12: =IFERROR(LOOKUP(2,1/('KPI Data'!E74:E85<>""),'KPI Data'!E74:E85),"-") | E12: =IF(D12="-","",IF("≥"="≥",IF(D12>=80,"Met","Not Met"),IF(D12<=80,"Met","Not Met"))) | F12: =IFERROR('KPI Data'!K74/100,"-")
B13: Repeat Test Rate (%) | C13: 5 | D13: =IFERROR(LOOKUP(2,1/('KPI Data'!E86:E97<>""),'KPI Data'!E86:E97),"-") | E13: =IF(D13="-","",IF("≤"="≥",IF(D13>=5,"Met","Not Met"),IF(D13<=5,"Met","Not Met"))) | F13: =IFERROR('KPI Data'!K86/100,"-")
B22: Overall Performance
B24: Indicators Tracked | D24: Met This Month | F24: Not Met | H24: Overall Compliance %
B25: =COUNTA(Dashboard!B6:B13) | D25: =COUNTIF(Dashboard!E6:E13,"Met") | F25: =COUNTIF(Dashboard!E6:E13,"Not Met") | H25: =IFERROR(COUNTIF(Dashboard!E6:E13,"Met")/(COUNTIF(Dashboard!E6:E13,"Met")+COUNTIF(Dashboard!E6:E13,"Not Met"))*100,0)
